BEGIN:VCALENDAR
VERSION:2.0
PRODID:-//Tukios.com/
BEGIN:VEVENT
UID:68168b83-7aac-467b-9a41-12e574894f61@www.pietrykafh.com
DTSTAMP:20260420T173536Z
DTSTART:20260421T210000Z
DTEND:20260422T010000Z
SUMMARY:Visitation
DESCRIPTION:
URL:https://www.pietrykafh.com/obituaries/alfreda-mosior
LOCATION: 5734 W Diversey Ave  Chicago IL 60639
GEO:41.9314068;-87.7701259
END:VEVENT
END:VCALENDAR