BEGIN:VCALENDAR
VERSION:2.0
PRODID:-//Tukios.com/
BEGIN:VEVENT
UID:c9c07b89-1d57-4e01-bac1-3c7bb82746d3@www.pietrykafh.com
DTSTAMP:20260420T173543Z
DTSTART:20260422T143000Z
DTEND:20260422T153000Z
SUMMARY:Mass
DESCRIPTION:
URL:https://www.pietrykafh.com/obituaries/alfreda-mosior
LOCATION: 5345 West Roscoe Street  Chicago IL 60641
GEO:41.9420256;-87.761213
END:VEVENT
END:VCALENDAR