BEGIN:VCALENDAR
VERSION:2.0
PRODID:-//Tukios.com/
BEGIN:VEVENT
UID:1fdc6ffa-f457-4f62-a27d-a62ef3c7805a@www.pietrykafh.com
DTSTAMP:20260420T174634Z
DTSTART:20260422T163000Z
DTEND:20260422T174500Z
SUMMARY:Interment
DESCRIPTION:
URL:https://www.pietrykafh.com/obituaries/alfreda-mosior
LOCATION: 1185 West Algonquin Road  Palatine IL 60067
GEO:42.076043;-88.075593
END:VEVENT
END:VCALENDAR