BEGIN:VCALENDAR
VERSION:2.0
PRODID:-//Tukios.com/
BEGIN:VEVENT
UID:0b691ba2-c3f6-46e9-91e8-e113685a63f1@www.pietrykafh.com
DTSTAMP:20260424T193456Z
DTSTART:20260507T210000Z
DTEND:20260508T010000Z
SUMMARY:Visitation
DESCRIPTION:
URL:https://www.pietrykafh.com/obituaries/benancio-arroyo
LOCATION: 5734 W Diversey Ave  Chicago IL 60639
GEO:41.9314068;-87.7701259
END:VEVENT
END:VCALENDAR