BEGIN:VCALENDAR
VERSION:2.0
PRODID:-//Tukios.com/
BEGIN:VEVENT
UID:4055e1eb-02dc-4531-a707-63aa8feb4584@www.pietrykafh.com
DTSTAMP:20260420T210344Z
DTSTART:20260425T150000Z
DTEND:20260425T160000Z
SUMMARY:Visitation
DESCRIPTION:
URL:https://www.pietrykafh.com/obituaries/bozena-kowalska
LOCATION:    Wheeling IL 
GEO:42.1391927;-87.9289591
END:VEVENT
END:VCALENDAR