BEGIN:VCALENDAR
VERSION:2.0
PRODID:-//Tukios.com/
BEGIN:VEVENT
UID:30771f43-3886-4f17-8c81-c2ed398e2b97@www.pietrykafh.com
DTSTAMP:20260420T210013Z
DTSTART:20260425T160000Z
DTEND:20260425T170000Z
SUMMARY:Mass
DESCRIPTION:
URL:https://www.pietrykafh.com/obituaries/bozena-kowalska
LOCATION:    Wheeling IL 
GEO:42.1391927;-87.9289591
END:VEVENT
END:VCALENDAR