BEGIN:VCALENDAR
VERSION:2.0
PRODID:-//Tukios.com/
BEGIN:VEVENT
UID:b1e9aa57-01c6-4a73-9048-bd2a6d111c30@www.pietrykafh.com
DTSTAMP:20260420T205418Z
DTSTART:20260425T174500Z
DTEND:20260425T184500Z
SUMMARY:Viewing
DESCRIPTION:
URL:https://www.pietrykafh.com/obituaries/bozena-kowalska
LOCATION: 8600 North Milwaukee Avenue  Niles IL 60714
GEO:42.0375042;-87.8242318
END:VEVENT
END:VCALENDAR