BEGIN:VCALENDAR
VERSION:2.0
PRODID:-//Tukios.com/
BEGIN:VEVENT
UID:42b077d8-6ed6-45a3-b8a0-bcc4b9d62a76@www.pietrykafh.com
DTSTAMP:20260422T232231Z
DTSTART:20260426T180000Z
DTEND:20260426T220000Z
SUMMARY:Visitation
DESCRIPTION:
URL:https://www.pietrykafh.com/obituaries/jadwiga-blacharczyk
LOCATION: 5734 W Diversey Ave  Chicago IL 60639
GEO:41.9314068;-87.7701259
END:VEVENT
END:VCALENDAR