BEGIN:VCALENDAR
VERSION:2.0
PRODID:-//Tukios.com/
BEGIN:VEVENT
UID:7e487289-5652-4bb6-8fc4-65847dc6071e@www.pietrykafh.com
DTSTAMP:20260422T231832Z
DTSTART:20260427T150000Z
DTEND:20260427T160000Z
SUMMARY:Mass
DESCRIPTION:
URL:https://www.pietrykafh.com/obituaries/jadwiga-blacharczyk
LOCATION: 5900 West Barry Avenue  Chicago IL 60634
GEO:41.9370143;-87.7739795
END:VEVENT
END:VCALENDAR