BEGIN:VCALENDAR
VERSION:2.0
PRODID:-//Tukios.com/
BEGIN:VEVENT
UID:13e69f5e-3bcb-40cf-896c-b0957b582bd5@www.pietrykafh.com
DTSTAMP:20260422T232231Z
DTSTART:20260427T163000Z
DTEND:20260427T173000Z
SUMMARY:Interment
DESCRIPTION:
URL:https://www.pietrykafh.com/obituaries/jadwiga-blacharczyk
LOCATION: 6800 North Milwaukee Avenue  Niles IL 60714
GEO:42.0055578;-87.7962756
END:VEVENT
END:VCALENDAR