BEGIN:VCALENDAR
VERSION:2.0
PRODID:-//Tukios.com/
BEGIN:VEVENT
UID:087231e2-befe-4a3d-a378-96f411caa2f2@www.pietrykafh.com
DTSTAMP:20260420T193942Z
DTSTART:20260423T210000Z
DTEND:20260424T010000Z
SUMMARY:Visitation
DESCRIPTION:
URL:https://www.pietrykafh.com/obituaries/janina-nabial
LOCATION: 5734 W Diversey Ave  Chicago IL 60639
GEO:41.9314068;-87.7701259
END:VEVENT
END:VCALENDAR