BEGIN:VCALENDAR
VERSION:2.0
PRODID:-//Tukios.com/
BEGIN:VEVENT
UID:ac05ee42-bf3a-4f2b-aafa-48fda2da5f7e@www.pietrykafh.com
DTSTAMP:20260420T195012Z
DTSTART:20260424T150000Z
DTEND:20260424T160000Z
SUMMARY:Mass
DESCRIPTION:
URL:https://www.pietrykafh.com/obituaries/janina-nabial
LOCATION: 5900 West Barry Avenue  Chicago IL 60634
GEO:41.9370143;-87.7739795
END:VEVENT
END:VCALENDAR