BEGIN:VCALENDAR
VERSION:2.0
PRODID:-//Tukios.com/
BEGIN:VEVENT
UID:4986c52b-e7b4-4899-980c-22b228ad417d@www.pietrykafh.com
DTSTAMP:20260420T194105Z
DTSTART:20260424T163000Z
DTEND:20260424T173000Z
SUMMARY:Interment
DESCRIPTION:
URL:https://www.pietrykafh.com/obituaries/janina-nabial
LOCATION:    Schiller Park IL 
GEO:41.9558637;-87.8708965
END:VEVENT
END:VCALENDAR