BEGIN:VCALENDAR
VERSION:2.0
PRODID:-//Tukios.com/
BEGIN:VEVENT
UID:d2bc233b-db86-427d-8b1f-e6352d0f8809@www.pietrykafh.com
DTSTAMP:20260421T225411Z
DTSTART:20260425T180000Z
DTEND:20260425T220000Z
SUMMARY:Visitation
DESCRIPTION:
URL:https://www.pietrykafh.com/obituaries/tomasz-niemiec
LOCATION: 5734 W Diversey Ave  Chicago IL 60639
GEO:41.9314068;-87.7701259
END:VEVENT
END:VCALENDAR